BEGIN:VCALENDAR
VERSION:2.0
PRODID:-//Guido Cocomello - ECPv6.15.17//NONSGML v1.0//EN
CALSCALE:GREGORIAN
METHOD:PUBLISH
X-WR-CALNAME:Guido Cocomello
X-ORIGINAL-URL:https://www.therealguido.com
X-WR-CALDESC:Events for Guido Cocomello
REFRESH-INTERVAL;VALUE=DURATION:PT1H
X-Robots-Tag:noindex
X-PUBLISHED-TTL:PT1H
BEGIN:VTIMEZONE
TZID:America/Los_Angeles
BEGIN:DAYLIGHT
TZOFFSETFROM:-0800
TZOFFSETTO:-0700
TZNAME:PDT
DTSTART:20220313T100000
END:DAYLIGHT
BEGIN:STANDARD
TZOFFSETFROM:-0700
TZOFFSETTO:-0800
TZNAME:PST
DTSTART:20221106T090000
END:STANDARD
BEGIN:DAYLIGHT
TZOFFSETFROM:-0800
TZOFFSETTO:-0700
TZNAME:PDT
DTSTART:20230312T100000
END:DAYLIGHT
BEGIN:STANDARD
TZOFFSETFROM:-0700
TZOFFSETTO:-0800
TZNAME:PST
DTSTART:20231105T090000
END:STANDARD
BEGIN:DAYLIGHT
TZOFFSETFROM:-0800
TZOFFSETTO:-0700
TZNAME:PDT
DTSTART:20240310T100000
END:DAYLIGHT
BEGIN:STANDARD
TZOFFSETFROM:-0700
TZOFFSETTO:-0800
TZNAME:PST
DTSTART:20241103T090000
END:STANDARD
END:VTIMEZONE
BEGIN:VTIMEZONE
TZID:America/New_York
BEGIN:DAYLIGHT
TZOFFSETFROM:-0500
TZOFFSETTO:-0400
TZNAME:EDT
DTSTART:20220313T070000
END:DAYLIGHT
BEGIN:STANDARD
TZOFFSETFROM:-0400
TZOFFSETTO:-0500
TZNAME:EST
DTSTART:20221106T060000
END:STANDARD
BEGIN:DAYLIGHT
TZOFFSETFROM:-0500
TZOFFSETTO:-0400
TZNAME:EDT
DTSTART:20230312T070000
END:DAYLIGHT
BEGIN:STANDARD
TZOFFSETFROM:-0400
TZOFFSETTO:-0500
TZNAME:EST
DTSTART:20231105T060000
END:STANDARD
BEGIN:DAYLIGHT
TZOFFSETFROM:-0500
TZOFFSETTO:-0400
TZNAME:EDT
DTSTART:20240310T070000
END:DAYLIGHT
BEGIN:STANDARD
TZOFFSETFROM:-0400
TZOFFSETTO:-0500
TZNAME:EST
DTSTART:20241103T060000
END:STANDARD
END:VTIMEZONE
BEGIN:VEVENT
DTSTART;TZID=America/Los_Angeles:20231014T200000
DTEND;TZID=America/Los_Angeles:20231014T213000
DTSTAMP:20260421T052056
CREATED:20230713T183810Z
LAST-MODIFIED:20230827T233432Z
UID:3846-1697313600-1697319000@www.therealguido.com
SUMMARY:Guido and Friends at The Marconi (Encore Performance)
DESCRIPTION:Guido & Friends at The Marconi\, hosted by the Marconi Automotive Museum & Foundation for Kids will feature actor and comedian\, Guido Cocomello for an encore performance following his latest last sold-out tour! Enjoy an evening of hilarious comedy and great people while surrounded by the $60 million Marconi Automotive Museum collection of vehicles. \nEVENT DETAILS:\n\n6:30pm the doors will open allowing time for guest to arrive\, and check-in.\n\n\n6:45pm-7:45pm you can enjoy a cocktail hour where The Marconi bartenders can accommodate your beverage request at any of our 3 full-bars.\n7:45pm We ask that guests start taking their seats as the show will begin promptly at 8:00pm\n\nBUY TICKETS HERE
URL:https://www.therealguido.com/event/guido-friends-at-the-marconi-encore-performance/
LOCATION:Marconi Automotive Museum\, 1302 Industrial Drive\, Tustin\, CA\, 92780\, United States
CATEGORIES:Comedy,United States
ATTACH;FMTTYPE=image/jpeg:https://www.therealguido.com/wp-content/uploads/2023/07/https___cdn.evbuc_.com_images_550055499_941686814803_1_original.jpg
END:VEVENT
BEGIN:VEVENT
DTSTART;TZID=America/New_York:20230610T200000
DTEND;TZID=America/New_York:20230610T220000
DTSTAMP:20260421T052056
CREATED:20230330T001417Z
LAST-MODIFIED:20230330T003511Z
UID:3780-1686427200-1686434400@www.therealguido.com
SUMMARY:So She Married a Guido - Toronto
DESCRIPTION:Get your tickets for the return of the award-winning\, smash-hit one-man show “So She Married a Guido”! \nWinner of the “Best Comedy” award at the United Solo Festival on Broadway in New York\, “So She Married a Guido” returns to Toronto for the third time! \nOriginally staged as “So I Married a Mangiacake\,” the show has had audiences across Canada and the US laughing at our cultural differences and wanting to hold their loved ones closer. \nWritten and performed by actor/comedian Guido Cocomello (from Being the Ricardos\, Ford vs Ferrari\, Just For Laughs\, and more)\, “So She Married a Guido” explores the events that have shaped his life\, including meeting and proposing to his mangiacake wife\, and overcoming the sudden death of his father. \nHere’s what the Corriere Canadese had to say: “So She Married a Guido” is a fun and intriguing show\, which\, without resorting to clichés\, uses comedic elements with intelligence and sensitivity as the starting points to tell a deeply personal story that we can all relate to.” \nDoors open at 7 PM! \nBUY TICKETS
URL:https://www.therealguido.com/event/so-she-married-a-guido-toronto/
LOCATION:The Royal Theatre\, 608 College St.\, Toronto\, Ontario\, M6G 1B4\, Canada
CATEGORIES:Canada,Comedy,One-Man Show
ATTACH;FMTTYPE=image/jpeg:https://www.therealguido.com/wp-content/uploads/2023/03/So-She-Married-A-Guido_FB_JUNE.REVISED_02-scaled.jpg
END:VEVENT
BEGIN:VEVENT
DTSTART;TZID=America/New_York:20230609T200000
DTEND;TZID=America/New_York:20230609T220000
DTSTAMP:20260421T052056
CREATED:20230330T001249Z
LAST-MODIFIED:20230330T003228Z
UID:3778-1686340800-1686348000@www.therealguido.com
SUMMARY:So She Married a Guido - Hamilton
DESCRIPTION:Get your tickets for the return of the award-winning\, smash-hit one-man show “So She Married a Guido”!\n\n\nWinner of the “Best Comedy” award at the United Solo Festival on Broadway in New York\, “So She Married a Guido” returns to Hamilton for the fourth time!\n\nOriginally staged as “So I Married a Mangiacake\,” the show has had audiences across Canada and the US laughing at our cultural differences and wanting to hold their loved ones closer.\n\nWritten and performed by actor/comedian Guido Cocomello (from Being the Ricardos\, Ford vs Ferrari\, Just For Laughs\, and more)\, “So She Married a Guido” explores the events that have shaped his life\, including meeting and proposing to his mangiacake wife\, and overcoming the sudden death of his father.\n\nBUY TICKETS
URL:https://www.therealguido.com/event/so-she-married-a-guido-hamilton/
LOCATION:THE ZOETIC THEATRE\, 526 Concession St\, Hamilton\, Ontario\, L8V 1A6\, Canada
CATEGORIES:Canada,Comedy,One-Man Show
ATTACH;FMTTYPE=image/jpeg:https://www.therealguido.com/wp-content/uploads/2023/03/So-She-Married-A-Guido_FB_JUNE.REVISED_01.jpg-scaled.jpg
END:VEVENT
BEGIN:VEVENT
DTSTART;TZID=America/New_York:20230323T203000
DTEND;TZID=America/New_York:20230323T220000
DTSTAMP:20260421T052056
CREATED:20230302T022152Z
LAST-MODIFIED:20230310T050500Z
UID:3744-1679603400-1679608800@www.therealguido.com
SUMMARY:So She Married a Guido
DESCRIPTION:Making its US debut\, “So She Married a Guido” is a heartwarming and hilarious exploration of cultural differences and the bonds of family. Through a combination of storytelling\, photos\, and footage\, actor/comedian Guido Cocomello (from Being the Ricardos\, Ford vs Ferrari\, Just for Laughs\, and more) takes audiences on a journey through the events that have shaped his life\, including meeting and proposing to his wife and overcoming the sudden death of his father. \nOriginally staged under the name “So I Married a Mangiacake\,” the show has received rave reviews from audiences and critics alike\, with a sold-out national tour of Canada and a US tour in the works. “So I Married a Mangiacake” is a fun and intriguing show\, which\, without resorting to clichés\, uses comedic elements with intelligence and sensitivity as the starting points to tell a deeply personal story that we can all relate to.” – Corriere Canadese \nBUY TICKETS
URL:https://www.therealguido.com/event/so-she-married-a-guido-new-york/
LOCATION:Theatre Row\, 410 West 42nd Street\, New York\, NY\, 10036\, United States
CATEGORIES:Comedy,One-Man Show,United States
ATTACH;FMTTYPE=image/webp:https://www.therealguido.com/wp-content/uploads/2023/03/So-She-Married-a-Guido_Broadway4-01-scaled.webp
END:VEVENT
END:VCALENDAR